BEGIN:VCALENDAR
VERSION:2.0
PRODID:-//H.A.R.D. Foundation - ECPv6.15.20//NONSGML v1.0//EN
CALSCALE:GREGORIAN
METHOD:PUBLISH
X-ORIGINAL-URL:https://thehardfoundation.org
X-WR-CALDESC:Events for H.A.R.D. Foundation
REFRESH-INTERVAL;VALUE=DURATION:PT1H
X-Robots-Tag:noindex
X-PUBLISHED-TTL:PT1H
BEGIN:VTIMEZONE
TZID:UTC
BEGIN:STANDARD
TZOFFSETFROM:+0000
TZOFFSETTO:+0000
TZNAME:UTC
DTSTART:20220101T000000
END:STANDARD
END:VTIMEZONE
BEGIN:VEVENT
DTSTART;TZID=UTC:20230806T130000
DTEND;TZID=UTC:20230806T170000
DTSTAMP:20260423T171734
CREATED:20230801T195920Z
LAST-MODIFIED:20230801T195920Z
UID:932-1691326800-1691341200@thehardfoundation.org
SUMMARY:Join Us for "Concerts in the Park" on August 6\, 2023!
DESCRIPTION:Mark your calendars for an unforgettable day of BBQ\, harmony\, and community spirit. On August 6\, 2023\, from 1 to 5 pm\, the Hayward Odd Fellows and the Hayward Area Recreation & Park District (H.A.R.D.) have teamed up to present concerts in the park\, all for a fantastic cause. Concert in the Park\, held at Memorial Park by the Hayward Plunge\, will not only fill the air with captivating tunes but also benefit the Hayward Area Recreation & Park District Foundation. So\, get your picnic blankets ready and join us for an event you won’t want to miss!
URL:https://thehardfoundation.org/event/join-us-for-concerts-in-the-park-on-august-6-2023/
LOCATION:Memorial Park\, 24176 Mission Blvd\, Hayward\, CA\, 94541\, United States
ATTACH;FMTTYPE=image/jpeg:https://thehardfoundation.org/wp-content/uploads/2023/08/356627333_723792516420670_8917447404055127188_n.jpg
END:VEVENT
BEGIN:VEVENT
DTSTART;TZID=UTC:20230506T123000
DTEND;TZID=UTC:20230506T170000
DTSTAMP:20260423T171734
CREATED:20241112T211218Z
LAST-MODIFIED:20241112T211315Z
UID:2400-1683376200-1683392400@thehardfoundation.org
SUMMARY:40th Anniversary Celebration - Wine and Art Stroll
DESCRIPTION:Thank you for joining us in celebrating the H.A.R.D. Foundation’s 40th Anniversary – our work\, our success\, and our advancement of access to H.A.R.D. programs for our community!\n\n\n\n\n\nIt was wonderful to gather on Saturday\, May 6 and enjoy art\, wine\, delicious bites\, and the beautiful Japanese Gardens. Thank you to our sponsors\, volunteers\, and guests – you made it a day to remember! \n\nSee Recap and Photos from the event here.
URL:https://thehardfoundation.org/event/40th-anniversary-celebration-wine-and-art-stroll/
LOCATION:Hayward Japanese Gardens\, 22373 N 3rd St\, Hayward\, CA
ATTACH;FMTTYPE=image/jpeg:https://thehardfoundation.org/wp-content/uploads/2023/05/DSC01649.jpg
ORGANIZER;CN="H.A.R.D. Foundation":MAILTO:lovs@haywardrec.org
END:VEVENT
END:VCALENDAR